BEGIN:VCALENDAR
VERSION:2.0
PRODID:-//Lancy Plan-les-Ouates Handball - ECPv6.15.20//NONSGML v1.0//EN
CALSCALE:GREGORIAN
METHOD:PUBLISH
X-WR-CALNAME:Lancy Plan-les-Ouates Handball
X-ORIGINAL-URL:https://lancyplohand.ch
X-WR-CALDESC:Évènements pour Lancy Plan-les-Ouates Handball
REFRESH-INTERVAL;VALUE=DURATION:PT1H
X-Robots-Tag:noindex
X-PUBLISHED-TTL:PT1H
BEGIN:VTIMEZONE
TZID:Europe/Zurich
BEGIN:DAYLIGHT
TZOFFSETFROM:+0100
TZOFFSETTO:+0200
TZNAME:CEST
DTSTART:20250330T010000
END:DAYLIGHT
BEGIN:STANDARD
TZOFFSETFROM:+0200
TZOFFSETTO:+0100
TZNAME:CET
DTSTART:20251026T010000
END:STANDARD
BEGIN:DAYLIGHT
TZOFFSETFROM:+0100
TZOFFSETTO:+0200
TZNAME:CEST
DTSTART:20260329T010000
END:DAYLIGHT
BEGIN:STANDARD
TZOFFSETFROM:+0200
TZOFFSETTO:+0100
TZNAME:CET
DTSTART:20261025T010000
END:STANDARD
BEGIN:DAYLIGHT
TZOFFSETFROM:+0100
TZOFFSETTO:+0200
TZNAME:CEST
DTSTART:20270328T010000
END:DAYLIGHT
BEGIN:STANDARD
TZOFFSETFROM:+0200
TZOFFSETTO:+0100
TZNAME:CET
DTSTART:20271031T010000
END:STANDARD
END:VTIMEZONE
BEGIN:VEVENT
DTSTART;TZID=Europe/Zurich:20260118T130000
DTEND;TZID=Europe/Zurich:20260118T143000
DTSTAMP:20260423T203810
CREATED:20260103T171847Z
LAST-MODIFIED:20260103T171847Z
UID:32357-1768741200-1768746600@lancyplohand.ch
SUMMARY:M17 – Lancy PLO vs Visp-Visperterminen
DESCRIPTION:
URL:https://lancyplohand.ch/agenda/m17-lancy-plo-vs-visp-visperterminen/
LOCATION:Aimée Stitelmann\, 22\, route de Base\, Plan-les-Ouates\, 1228\, Suisse
CATEGORIES:M17
END:VEVENT
END:VCALENDAR