BEGIN:VCALENDAR
VERSION:2.0
PRODID:-//Lancy Plan-les-Ouates Handball - ECPv6.15.20//NONSGML v1.0//EN
CALSCALE:GREGORIAN
METHOD:PUBLISH
X-ORIGINAL-URL:https://lancyplohand.ch
X-WR-CALDESC:Évènements pour Lancy Plan-les-Ouates Handball
REFRESH-INTERVAL;VALUE=DURATION:PT1H
X-Robots-Tag:noindex
X-PUBLISHED-TTL:PT1H
BEGIN:VTIMEZONE
TZID:Europe/Zurich
BEGIN:DAYLIGHT
TZOFFSETFROM:+0100
TZOFFSETTO:+0200
TZNAME:CEST
DTSTART:20250330T010000
END:DAYLIGHT
BEGIN:STANDARD
TZOFFSETFROM:+0200
TZOFFSETTO:+0100
TZNAME:CET
DTSTART:20251026T010000
END:STANDARD
BEGIN:DAYLIGHT
TZOFFSETFROM:+0100
TZOFFSETTO:+0200
TZNAME:CEST
DTSTART:20260329T010000
END:DAYLIGHT
BEGIN:STANDARD
TZOFFSETFROM:+0200
TZOFFSETTO:+0100
TZNAME:CET
DTSTART:20261025T010000
END:STANDARD
BEGIN:DAYLIGHT
TZOFFSETFROM:+0100
TZOFFSETTO:+0200
TZNAME:CEST
DTSTART:20270328T010000
END:DAYLIGHT
BEGIN:STANDARD
TZOFFSETFROM:+0200
TZOFFSETTO:+0100
TZNAME:CET
DTSTART:20271031T010000
END:STANDARD
END:VTIMEZONE
BEGIN:VEVENT
DTSTART;TZID=Europe/Zurich:20260201T170000
DTEND;TZID=Europe/Zurich:20260201T183000
DTSTAMP:20260423T190156
CREATED:20260103T172146Z
LAST-MODIFIED:20260103T172146Z
UID:32359-1769965200-1769970600@lancyplohand.ch
SUMMARY:M17 – Leimental vs Lancy PLO
DESCRIPTION:
URL:https://lancyplohand.ch/agenda/m17-leimental-vs-lancy-plo/
LOCATION:Therwil 99er\, Schulgasse 1\, Therwil\, 4106\, Switzerland
CATEGORIES:M17
END:VEVENT
END:VCALENDAR